BEGIN:VCALENDAR
VERSION:2.0
PRODID:-//Sabre//Sabre VObject 4.5.8//EN
CALSCALE:GREGORIAN
BEGIN:VEVENT
UID:sabre-vobject-d223d780-3d1a-43f4-af55-4367be48a434
DTSTAMP:20260421T004213Z
SUMMARY:Zumba 
DESCRIPTION:
X-ALT-DESC:FMTTYPE=text/html:<!DOCTYPE HTML PUBLIC "-//W3C//DTD HTML 3.2//E
 N"><HTML></HTML>
CREATED;TZID=America/New_York:20251229T090531
URL;VALUE=URI:https://jackson.armymwr.com/calendar/event
DTSTART;TZID=America/New_York:20251203T173000
DTEND;TZID=America/New_York:20251203T183000
SEQUENCE:0
END:VEVENT
END:VCALENDAR
