BEGIN:VCALENDAR
VERSION:2.0
PRODID:-//Sabre//Sabre VObject 4.5.8//EN
CALSCALE:GREGORIAN
BEGIN:VEVENT
UID:sabre-vobject-c12edc49-b565-440f-937f-e17cf0064b02
DTSTAMP:20260420T154038Z
SUMMARY:Golf Club: Closed due to Tournament 
DESCRIPTION:
X-ALT-DESC:FMTTYPE=text/html:<!DOCTYPE HTML PUBLIC "-//W3C//DTD HTML 3.2//E
 N"><HTML></HTML>
CREATED;TZID=America/New_York:20260417T133358
URL;VALUE=URI:https://jackson.armymwr.com/calendar/event
DTSTART;TZID=America/New_York:20260424T000000
DTEND;TZID=America/New_York:20260424T235959
SEQUENCE:0
END:VEVENT
END:VCALENDAR
