BEGIN:VCALENDAR
VERSION:2.0
PRODID:-//Sabre//Sabre VObject 4.5.8//EN
CALSCALE:GREGORIAN
BEGIN:VEVENT
UID:sabre-vobject-a73647cd-c322-4c41-a56a-5ae1395a9f52
DTSTAMP:20260425T170504Z
SUMMARY:🟠🟠 POST CSM TRAP SHOOT 🟠🟠
DESCRIPTION:Join ODR and your POST CSM at our Range Day\, as you test your 
 trap shooting skills amongst others.&nbsp\;\n\nDETAILS:\n\n\n	$10 per roun
 d if you bring your own shotgun and ammo\n	$25 per round if you use ODR eq
 uipment&nbsp\;\n	Each round consists of 25 clay targets launched from your
  trap house. Whether you&#39\;re an experienced shooter or it&#39\;s your 
 first time\, come join&nbsp\;the fun.&nbsp\;\n\n
X-ALT-DESC:FMTTYPE=text/html:<!DOCTYPE HTML PUBLIC "-//W3C//DTD HTML 3.2//E
 N"><HTML><p>Join ODR and your POST CSM at our Range Day\, as you test your
  trap shooting skills amongst others.&nbsp\;</p>\n\n<p>DETAILS:</p>\n\n<ul
 >\n	<li>$10 per round if you bring your own shotgun and ammo</li>\n	<li>$2
 5 per round if you use ODR equipment&nbsp\;</li>\n	<li>Each round consists
  of 25 clay targets launched from your trap house. Whether you&#39\;re an 
 experienced shooter or it&#39\;s your first time\, come join&nbsp\;the fun
 .&nbsp\;</li>\n</ul>\n</HTML>
CREATED;TZID=America/New_York:20231006T114811
URL;VALUE=URI:https://jackson.armymwr.com/calendar/event
DTSTART;TZID=America/New_York:20231013T130000
DTEND;TZID=America/New_York:20231013T160000
SEQUENCE:0
END:VEVENT
END:VCALENDAR
