BEGIN:VCALENDAR
VERSION:2.0
PRODID:-//Sabre//Sabre VObject 4.5.8//EN
CALSCALE:GREGORIAN
BEGIN:VEVENT
UID:sabre-vobject-a36ecb3c-0003-4981-b5a7-d6943e0b4602
DTSTAMP:20260425T022719Z
SUMMARY:🧟 Zombie Run 5k 🧟
DESCRIPTION:Join us for a Halloween adult-themed zombie 5k run for a spooky
  good time.&nbsp\;\n
X-ALT-DESC:FMTTYPE=text/html:<!DOCTYPE HTML PUBLIC "-//W3C//DTD HTML 3.2//E
 N"><HTML><p>Join us for a Halloween adult-themed zombie 5k run for a spook
 y good time.&nbsp\;</p>\n</HTML>
CREATED;TZID=America/New_York:20231017T133116
URL;VALUE=URI:https://jackson.armymwr.com/calendar/event
DTSTART;TZID=America/New_York:20231028T080000
DTEND;TZID=America/New_York:20231028T140000
SEQUENCE:0
END:VEVENT
END:VCALENDAR
