BEGIN:VCALENDAR
VERSION:2.0
PRODID:-//Sabre//Sabre VObject 4.5.8//EN
CALSCALE:GREGORIAN
BEGIN:VEVENT
UID:sabre-vobject-28888678-3914-4cea-a535-f7fbaf66f628
DTSTAMP:20260423T142116Z
SUMMARY:❄️ Fort Jackson Holiday Tree Lighting: Winter Wonderland 🎄
DESCRIPTION:Come and celebrate with us\, Fort Jackson style. Winter Wonderl
 and is taking over our post filled with all things wonderful. OPEN TO THE 
 PUBLIC. The happenings include:\n\n\n	Tree Lighting&nbsp\;🎄\n	Visit fro
 m the Clauses&nbsp\;🎅\n	Food Trucks&nbsp\;🚚\n	Live Ice Sculptor 🧊
 \n	Selfie Stations&nbsp\;🤳🏽\n	Holiday Train&nbsp\;🚂\n	Hot Cocoa S
 tation&nbsp\;☕\n	Gingerbread Competition Winner Announced 🏠\n	Live Mu
 sic&nbsp\;🎻\n\n\nSpecial Thank You to this year&#39\;s sponsors:\n\n\n	
 Upside Property\, LLC\n	USAA\n	First Command\n	The Palmetto Mortgage Group
 \n	Blue Cross Blue Shield\n\n\n**Sponsorship does not imply official endor
 sement**\n\nUpdated as of 11/21/2023\n
X-ALT-DESC:FMTTYPE=text/html:<!DOCTYPE HTML PUBLIC "-//W3C//DTD HTML 3.2//E
 N"><HTML><p>Come and celebrate with us\, Fort Jackson style. Winter Wonder
 land is taking over our post filled with all things wonderful. OPEN TO THE
  PUBLIC. The happenings include:</p>\n\n<ul>\n	<li>Tree Lighting&nbsp\;
 🎄</li>\n	<li>Visit from the Clauses&nbsp\;🎅</li>\n	<li>Food Trucks&n
 bsp\;🚚</li>\n	<li>Live Ice Sculptor 🧊</li>\n	<li>Selfie Stations&nbs
 p\;🤳🏽</li>\n	<li>Holiday Train&nbsp\;🚂</li>\n	<li>Hot Cocoa Stati
 on&nbsp\;☕</li>\n	<li>Gingerbread Competition Winner Announced 🏠</li>
 \n	<li>Live Music&nbsp\;🎻</li>\n</ul>\n\n<p>Special Thank You to this y
 ear&#39\;s sponsors:</p>\n\n<ul>\n	<li><a href="https://www.upsideproperty
 sc.com/">Upside Property\, LLC</a></li>\n	<li><a href="https://www.usaa.co
 m/">USAA</a></li>\n	<li><a href="https://www.firstcommand.com/">First Comm
 and</a></li>\n	<li><a href="https://palmettomortgage.com/">The Palmetto Mo
 rtgage Group</a></li>\n	<li><a href="https://www.bcbs.com/">Blue Cross Blu
 e Shield</a></li>\n</ul>\n\n<p>**Sponsorship does not imply official endor
 sement**</p>\n\n<p>Updated as of 11/21/2023</p>\n</HTML>
CREATED;TZID=America/New_York:20231121T133149
URL;VALUE=URI:https://jackson.armymwr.com/calendar/event
DTSTART;TZID=America/New_York:20231201T170000
DTEND;TZID=America/New_York:20231201T190000
SEQUENCE:0
END:VEVENT
END:VCALENDAR
