BEGIN:VCALENDAR
VERSION:2.0
PRODID:-//Sabre//Sabre VObject 4.5.8//EN
CALSCALE:GREGORIAN
BEGIN:VEVENT
UID:sabre-vobject-6e729659-941f-46a9-a0c1-fa1f1bcb1090
DTSTAMP:20260423T051146Z
SUMMARY:🎄❄️ Holiday Biltmore Trip 🎄❄️
DESCRIPTION:Visit and experience the historic Biltmore Estates in beautiful
  Ashville\, NC. Tour will include visits to:&nbsp\;\n\n\n	Estates Winery&n
 bsp\;🍷\n	Horse Stables&nbsp\;🐎\n	Holiday Shopping&nbsp\;🛍️\n\n\
 n&nbsp\;\n
X-ALT-DESC:FMTTYPE=text/html:<!DOCTYPE HTML PUBLIC "-//W3C//DTD HTML 3.2//E
 N"><HTML><p>Visit and experience the historic Biltmore Estates in beautifu
 l Ashville\, NC. Tour will include visits to:&nbsp\;</p>\n\n<ul>\n	<li>Est
 ates Winery&nbsp\;🍷</li>\n	<li>Horse Stables&nbsp\;🐎</li>\n	<li>Holi
 day Shopping&nbsp\;🛍️</li>\n</ul>\n\n<p>&nbsp\;</p>\n</HTML>
CREATED;TZID=America/New_York:20231205T131434
URL;VALUE=URI:https://jackson.armymwr.com/calendar/event
DTSTART;TZID=America/New_York:20231206T080000
DTEND;TZID=America/New_York:20231206T170000
SEQUENCE:0
END:VEVENT
END:VCALENDAR
