BEGIN:VCALENDAR
VERSION:2.0
PRODID:-//Sabre//Sabre VObject 4.5.8//EN
CALSCALE:GREGORIAN
BEGIN:VEVENT
UID:sabre-vobject-f49fd7c6-64cc-45cb-b09d-98f58cf1e6ce
DTSTAMP:20260423T142114Z
SUMMARY:☃️ Holiday Ornament Class ❄️
DESCRIPTION:Join us at the Solomon Center as we explore our festive side wi
 th ornaments and holiday cheer.&nbsp\;\n
X-ALT-DESC:FMTTYPE=text/html:<!DOCTYPE HTML PUBLIC "-//W3C//DTD HTML 3.2//E
 N"><HTML><p>Join us at the Solomon Center as we explore our festive side w
 ith ornaments and holiday cheer.&nbsp\;</p>\n</HTML>
CREATED;TZID=America/New_York:20231102T164506
URL;VALUE=URI:https://jackson.armymwr.com/calendar/event
DTSTART;TZID=America/New_York:20231202T100000
DTEND;TZID=America/New_York:20231202T120000
SEQUENCE:0
END:VEVENT
END:VCALENDAR
