BEGIN:VCALENDAR
VERSION:2.0
PRODID:-//Sabre//Sabre VObject 4.5.8//EN
CALSCALE:GREGORIAN
BEGIN:VEVENT
UID:sabre-vobject-081a5a5f-a871-42a5-ad16-cd71ee680042
DTSTAMP:20260423T214528Z
SUMMARY:❄️ Holiday Rustic Porch Sign 🎄 
DESCRIPTION:Includes all materials:\n\n\n	Three designs to choose from\n	Re
 gistration required by Nov. 17th\n\n
X-ALT-DESC:FMTTYPE=text/html:<!DOCTYPE HTML PUBLIC "-//W3C//DTD HTML 3.2//E
 N"><HTML><p>Includes all materials:</p>\n\n<ul>\n	<li>Three designs to cho
 ose from</li>\n	<li>Registration required by Nov. 17th</li>\n</ul>\n</HTML
 >
CREATED;TZID=America/New_York:20231116T165441
URL;VALUE=URI:https://jackson.armymwr.com/calendar/event
DTSTART;TZID=America/New_York:20231118T100000
DTEND;TZID=America/New_York:20231118T120000
SEQUENCE:0
END:VEVENT
END:VCALENDAR
