BEGIN:VCALENDAR
VERSION:2.0
PRODID:-//Sabre//Sabre VObject 4.5.8//EN
CALSCALE:GREGORIAN
BEGIN:VEVENT
UID:sabre-vobject-d5702b43-31b9-4677-8052-c700ca78a6ee
DTSTAMP:20260423T051134Z
SUMMARY:🎨 Holiday Paint & Sip 🍷
DESCRIPTION:Paint\, Sip and be merry cause the hosts from the Solomon Cente
 r know how to celebrate. Join us for an evening of festive memories\, Fort
  Jackson style.&nbsp\;\n
X-ALT-DESC:FMTTYPE=text/html:<!DOCTYPE HTML PUBLIC "-//W3C//DTD HTML 3.2//E
 N"><HTML><p>Paint\, Sip and be merry cause the hosts from the Solomon Cent
 er know how to celebrate. Join us for an evening of festive memories\, For
 t Jackson style.&nbsp\;</p>\n</HTML>
CREATED;TZID=America/New_York:20231103T082602
URL;VALUE=URI:https://jackson.armymwr.com/calendar/event
DTSTART;TZID=America/New_York:20231215T173000
DTEND;TZID=America/New_York:20231215T193000
SEQUENCE:0
END:VEVENT
END:VCALENDAR
