BEGIN:VCALENDAR
VERSION:2.0
PRODID:-//Sabre//Sabre VObject 4.5.8//EN
CALSCALE:GREGORIAN
BEGIN:VEVENT
UID:sabre-vobject-c7348e73-0e0d-4b17-ac00-1fd972687d77
DTSTAMP:20260422T141735Z
SUMMARY:🎄 Family Friendly Films 🎞️
DESCRIPTION:Enjoy a holiday family friendly movie every Friday.\n
X-ALT-DESC:FMTTYPE=text/html:<!DOCTYPE HTML PUBLIC "-//W3C//DTD HTML 3.2//E
 N"><HTML><p>Enjoy a holiday family friendly movie every Friday.</p>\n</HTM
 L>
CREATED;TZID=America/New_York:20231121T133841
URL;VALUE=URI:https://jackson.armymwr.com/calendar/event
DTSTART;TZID=America/New_York:20231208T150000
DTEND;TZID=America/New_York:20231208T163000
SEQUENCE:0
END:VEVENT
END:VCALENDAR
