BEGIN:VCALENDAR
VERSION:2.0
PRODID:-//Sabre//Sabre VObject 4.5.8//EN
CALSCALE:GREGORIAN
BEGIN:VEVENT
UID:sabre-vobject-a93b6436-3772-4a64-a7e9-ec6875b949c2
DTSTAMP:20260422T141737Z
SUMMARY:⛸️ ICE SKATING ⛸️
DESCRIPTION:
X-ALT-DESC:FMTTYPE=text/html:<!DOCTYPE HTML PUBLIC "-//W3C//DTD HTML 3.2//E
 N"><HTML></HTML>
CREATED;TZID=America/New_York:20240111T153448
URL;VALUE=URI:https://jackson.armymwr.com/calendar/event
DTSTART;TZID=America/New_York:20240113T120000
DTEND;TZID=America/New_York:20240113T153000
SEQUENCE:0
END:VEVENT
END:VCALENDAR
