BEGIN:VCALENDAR
VERSION:2.0
PRODID:-//Sabre//Sabre VObject 4.5.8//EN
CALSCALE:GREGORIAN
BEGIN:VEVENT
UID:sabre-vobject-ea46b4f7-10a0-4731-82fe-bbc47d84071a
DTSTAMP:20260423T051147Z
SUMMARY:💪🏾 90 Day Makeover Challenge 💪🏾 
DESCRIPTION:
X-ALT-DESC:FMTTYPE=text/html:<!DOCTYPE HTML PUBLIC "-//W3C//DTD HTML 3.2//E
 N"><HTML></HTML>
CREATED;TZID=America/New_York:20231226T101930
URL;VALUE=URI:https://jackson.armymwr.com/calendar/event
DTSTART;TZID=America/New_York:20240102T080000
DTEND;TZID=America/New_York:20240102T160000
SEQUENCE:0
END:VEVENT
END:VCALENDAR
