BEGIN:VCALENDAR
VERSION:2.0
PRODID:-//Sabre//Sabre VObject 4.5.8//EN
CALSCALE:GREGORIAN
BEGIN:VEVENT
UID:sabre-vobject-b3e11950-a7e3-42e4-a1fb-c0d4a4fe8dad
DTSTAMP:20260421T185632Z
SUMMARY:🚶🏿‍♀️Fitness Walk 🚶🏽 
DESCRIPTION:
X-ALT-DESC:FMTTYPE=text/html:<!DOCTYPE HTML PUBLIC "-//W3C//DTD HTML 3.2//E
 N"><HTML></HTML>
CREATED;TZID=America/New_York:20240104T084841
URL;VALUE=URI:https://jackson.armymwr.com/calendar/event
DTSTART;TZID=America/New_York:20240108T120000
DTEND;TZID=America/New_York:20240108T130000
SEQUENCE:0
END:VEVENT
END:VCALENDAR
