BEGIN:VCALENDAR
VERSION:2.0
PRODID:-//Sabre//Sabre VObject 4.5.8//EN
CALSCALE:GREGORIAN
BEGIN:VEVENT
UID:sabre-vobject-d3eef97a-b6a8-4b0f-a4b8-c1c0e470e100
DTSTAMP:20260421T185634Z
SUMMARY:🎅🏼 Gnome on the Roam 🎅🏼  
DESCRIPTION:
X-ALT-DESC:FMTTYPE=text/html:<!DOCTYPE HTML PUBLIC "-//W3C//DTD HTML 3.2//E
 N"><HTML></HTML>
CREATED;TZID=America/New_York:20240104T091913
URL;VALUE=URI:https://jackson.armymwr.com/calendar/event
DTSTART;TZID=America/New_York:20240129T000000
DTEND;TZID=America/New_York:20240129T235959
SEQUENCE:0
END:VEVENT
END:VCALENDAR
