BEGIN:VCALENDAR
VERSION:2.0
PRODID:-//Sabre//Sabre VObject 4.5.8//EN
CALSCALE:GREGORIAN
BEGIN:VEVENT
UID:sabre-vobject-470525c2-39c1-4a13-b3c1-19094cf5f128
DTSTAMP:20260421T185635Z
SUMMARY:🍃 Spring Wreath Workshop 🍃
DESCRIPTION:(Ages 13+) Join us for our spring wreath making class and creat
 e wreath just in time for spring. All materials provided and call or come 
 in to sign up. **Limited Space**\n
X-ALT-DESC:FMTTYPE=text/html:<!DOCTYPE HTML PUBLIC "-//W3C//DTD HTML 3.2//E
 N"><HTML><p>(Ages 13+) Join us for our spring wreath making class and crea
 te wreath just in time for spring. All materials provided and call or come
  in to sign up. **Limited Space**</p>\n</HTML>
CREATED;TZID=America/New_York:20240104T100554
URL;VALUE=URI:https://jackson.armymwr.com/calendar/event
DTSTART;TZID=America/New_York:20240127T130000
DTEND;TZID=America/New_York:20240127T160000
SEQUENCE:0
END:VEVENT
END:VCALENDAR
