BEGIN:VCALENDAR
VERSION:2.0
PRODID:-//Sabre//Sabre VObject 4.5.8//EN
CALSCALE:GREGORIAN
BEGIN:VEVENT
UID:sabre-vobject-d9a8011b-b871-40cc-9e3a-100ca5d418ef
DTSTAMP:20260422T141736Z
SUMMARY:🏈 The BIG GAME LVIII 🏈
DESCRIPTION:
X-ALT-DESC:FMTTYPE=text/html:<!DOCTYPE HTML PUBLIC "-//W3C//DTD HTML 3.2//E
 N"><HTML></HTML>
CREATED;TZID=America/New_York:20240117T153921
URL;VALUE=URI:https://jackson.armymwr.com/calendar/event
DTSTART;TZID=America/New_York:20240211T163000
DTEND;TZID=America/New_York:20240211T203000
SEQUENCE:0
END:VEVENT
END:VCALENDAR
