BEGIN:VCALENDAR
VERSION:2.0
PRODID:-//Sabre//Sabre VObject 4.5.8//EN
CALSCALE:GREGORIAN
BEGIN:VEVENT
UID:sabre-vobject-aed13ffe-defe-4568-81c9-a8dc7aff9544
DTSTAMP:20260420T171435Z
SUMMARY:🟠 DODGEBALL TOURNAMENT 🤾
DESCRIPTION:Open to DOD ID Cardholders\, Spouses\, Retirees\, Civilians\n
X-ALT-DESC:FMTTYPE=text/html:<!DOCTYPE HTML PUBLIC "-//W3C//DTD HTML 3.2//E
 N"><HTML><p>Open to DOD ID Cardholders\, Spouses\, Retirees\, Civilians</p
 >\n</HTML>
CREATED;TZID=America/New_York:20240122T144937
URL;VALUE=URI:https://jackson.armymwr.com/calendar/event
DTSTART;TZID=America/New_York:20240226T180000
DTEND;TZID=America/New_York:20240226T190000
SEQUENCE:0
END:VEVENT
END:VCALENDAR
