BEGIN:VCALENDAR
VERSION:2.0
PRODID:-//Sabre//Sabre VObject 4.5.8//EN
CALSCALE:GREGORIAN
BEGIN:VEVENT
UID:sabre-vobject-d61f3796-7d9d-4a84-83bf-3d63ef541fb5
DTSTAMP:20260419T133728Z
SUMMARY:👪🏽 Spring Family Campout 👪🏽
DESCRIPTION:
X-ALT-DESC:FMTTYPE=text/html:<!DOCTYPE HTML PUBLIC "-//W3C//DTD HTML 3.2//E
 N"><HTML></HTML>
CREATED;TZID=America/New_York:20240123T093944
URL;VALUE=URI:https://jackson.armymwr.com/calendar/event
DTSTART;TZID=America/New_York:20240323T160000
DTEND;TZID=America/New_York:20240324T100000
SEQUENCE:0
END:VEVENT
END:VCALENDAR
