BEGIN:VCALENDAR
VERSION:2.0
PRODID:-//Sabre//Sabre VObject 4.5.8//EN
CALSCALE:GREGORIAN
BEGIN:VEVENT
UID:sabre-vobject-56072e07-559f-4cdd-8ca9-bcc52a523856
DTSTAMP:20260421T134233Z
SUMMARY:🍻 Beers & Bingo 🔴
DESCRIPTION:
X-ALT-DESC:FMTTYPE=text/html:<!DOCTYPE HTML PUBLIC "-//W3C//DTD HTML 3.2//E
 N"><HTML></HTML>
CREATED;TZID=America/New_York:20240124T112929
URL;VALUE=URI:https://jackson.armymwr.com/calendar/event
DTSTART;TZID=America/New_York:20240126T173000
DTEND;TZID=America/New_York:20240126T203000
SEQUENCE:0
END:VEVENT
END:VCALENDAR
