BEGIN:VCALENDAR
VERSION:2.0
PRODID:-//Sabre//Sabre VObject 4.5.8//EN
CALSCALE:GREGORIAN
BEGIN:VEVENT
UID:sabre-vobject-9ec1dfaf-e022-4f27-8bd9-dc4ae1885246
DTSTAMP:20260420T191639Z
SUMMARY:🟠 POST CSM TRAP SHOOT 🟠
DESCRIPTION:
X-ALT-DESC:FMTTYPE=text/html:<!DOCTYPE HTML PUBLIC "-//W3C//DTD HTML 3.2//E
 N"><HTML></HTML>
CREATED;TZID=America/New_York:20240229T151606
URL;VALUE=URI:https://jackson.armymwr.com/calendar/event
DTSTART;TZID=America/New_York:20240308T130000
DTEND;TZID=America/New_York:20240308T160000
SEQUENCE:0
END:VEVENT
END:VCALENDAR
