BEGIN:VCALENDAR
VERSION:2.0
PRODID:-//Sabre//Sabre VObject 4.5.8//EN
CALSCALE:GREGORIAN
BEGIN:VEVENT
UID:sabre-vobject-b9d170f5-1f91-4deb-b095-2314ac099578
DTSTAMP:20260420T052307Z
SUMMARY:⚽ FREE MLS Charlotte FC Clinic ⚽ 
DESCRIPTION:FREE MLS Charlotte Soccer Clinic&nbsp\;\n\n\n	Youth Ages: 5-14&
 nbsp\;\n	Pre-Register through WEBTRAC&nbsp\;\n	Call for more information 8
 03-751-7451\n\n
X-ALT-DESC:FMTTYPE=text/html:<!DOCTYPE HTML PUBLIC "-//W3C//DTD HTML 3.2//E
 N"><HTML><p>FREE MLS Charlotte Soccer Clinic&nbsp\;</p>\n\n<ul>\n	<li>Yout
 h Ages: 5-14&nbsp\;</li>\n	<li>Pre-Register through WEBTRAC&nbsp\;</li>\n	
 <li>Call for more information 803-751-7451</li>\n</ul>\n</HTML>
CREATED;TZID=America/New_York:20240301T155141
URL;VALUE=URI:https://jackson.armymwr.com/calendar/event
DTSTART;TZID=America/New_York:20240317T130000
DTEND;TZID=America/New_York:20240317T150000
SEQUENCE:0
END:VEVENT
END:VCALENDAR
